BEGIN:VCALENDAR
VERSION:2.0
PRODID:-//Au Joyeux Bazar - ECPv6.15.20//NONSGML v1.0//EN
CALSCALE:GREGORIAN
METHOD:PUBLISH
X-WR-CALNAME:Au Joyeux Bazar
X-ORIGINAL-URL:https://aujoyeuxbazar.com
X-WR-CALDESC:Évènements pour Au Joyeux Bazar
REFRESH-INTERVAL;VALUE=DURATION:PT1H
X-Robots-Tag:noindex
X-PUBLISHED-TTL:PT1H
BEGIN:VTIMEZONE
TZID:Europe/Paris
BEGIN:DAYLIGHT
TZOFFSETFROM:+0100
TZOFFSETTO:+0200
TZNAME:CEST
DTSTART:20220327T010000
END:DAYLIGHT
BEGIN:STANDARD
TZOFFSETFROM:+0200
TZOFFSETTO:+0100
TZNAME:CET
DTSTART:20221030T010000
END:STANDARD
BEGIN:DAYLIGHT
TZOFFSETFROM:+0100
TZOFFSETTO:+0200
TZNAME:CEST
DTSTART:20230326T010000
END:DAYLIGHT
BEGIN:STANDARD
TZOFFSETFROM:+0200
TZOFFSETTO:+0100
TZNAME:CET
DTSTART:20231029T010000
END:STANDARD
BEGIN:DAYLIGHT
TZOFFSETFROM:+0100
TZOFFSETTO:+0200
TZNAME:CEST
DTSTART:20240331T010000
END:DAYLIGHT
BEGIN:STANDARD
TZOFFSETFROM:+0200
TZOFFSETTO:+0100
TZNAME:CET
DTSTART:20241027T010000
END:STANDARD
BEGIN:DAYLIGHT
TZOFFSETFROM:+0100
TZOFFSETTO:+0200
TZNAME:CEST
DTSTART:20250330T010000
END:DAYLIGHT
BEGIN:STANDARD
TZOFFSETFROM:+0200
TZOFFSETTO:+0100
TZNAME:CET
DTSTART:20251026T010000
END:STANDARD
END:VTIMEZONE
BEGIN:VEVENT
DTSTART;TZID=Europe/Paris:20240120T103000
DTEND;TZID=Europe/Paris:20240120T120000
DTSTAMP:20260424T092329
CREATED:20231222T090048Z
LAST-MODIFIED:20231222T092343Z
UID:10000176-1705746600-1705752000@aujoyeuxbazar.com
SUMMARY:Atelier CréA Conte " Le Flocon de Noëlle "
DESCRIPTION:Autour de l’imaginaire d’un conte\, venez écouter\, puis réaliser une jolie création. \nPour cette 1ère séance de l’année\, c’est un conte d’hiver mettant à l’honneur la neige que l’on découvrira ensemble ! \nUn atelier qui associe créativité\, motricité fine et bienveillance pour profiter d’un moment de partage en famille\, loin des écrans et des contraintes de la maison…. \nPublic : Atelier adulte – enfant (environ 3-6 ans). \n Tarif :– Place Duo = adulte(s) avec 1 enfant => 15€ ;– Place Trio = adulte(s) avec 2 enfants => 25€ ;– Place sur liste d’attente possible si l’atelier est complet ! Info et Inscription (obligatoire) auprès de Au Joyeux Bazar de Claire directement ci-dessous\, en fonction de la composition de votre famille (cf ci-dessus). 
URL:https://aujoyeuxbazar.com/atelier/atelier-crea-conte-le-flocon-de-noelle/
LOCATION:L’Essentielle Epicerie Vrac\, 48 Av Lacassagne\, Lyon\, France\, 69003\, France
CATEGORIES:Atelier Créatif (3-10 ans),CreA Conte
ATTACH;FMTTYPE=image/png:https://aujoyeuxbazar.com/wp-content/uploads/2023/10/Atelier-Essentielle-20-01-24-Bis.png
ORGANIZER;CN="Festival de l'Apprendre 2024":MAILTO:aujoyeuxbazardeclaire@gmail.com
END:VEVENT
BEGIN:VEVENT
DTSTART;TZID=Europe/Paris:20231209T103000
DTEND;TZID=Europe/Paris:20231209T120000
DTSTAMP:20260424T092329
CREATED:20231020T100048Z
LAST-MODIFIED:20231020T134356Z
UID:10000165-1702117800-1702123200@aujoyeuxbazar.com
SUMMARY:Atelier Créatif Adulte-Enfant " Cadeau de Noël pour Maître(sse) "
DESCRIPTION:La période des Fêtes est une période propice à faire plaisir\, notamment avec des cadeaux DIY ! \nAlors cette année\, j’avais envie de vous proposer de réaliser ensemble un cadeau pour votre maître(sse) : un joli bocal recup\, créatif et personnalisé que vous pourrez ensuite remplir selon vos envies (gâteaux\, chocolats\, mots doux\,…) 😊 \nUn moment créatif et ludique pour profiter d’un moment complice en famille\, loin des écrans et des contraintes de la maison\, pour s’approcher tendrement  des fêtes de Noël ! \nPublic : Atelier adulte – enfant (environ 4-10 ans). Tarif :– Place Duo = adulte(s) avec 1 enfant => 15€ ;– Place Trio = adulte(s) avec 2 enfants => 25€ ;– Place sur liste d’attente possible si l’atelier est complet ! Info et Inscription (obligatoire) auprès de Au Joyeux Bazar de Claire directement ci-dessous\, en fonction de la composition de votre famille (cf ci-dessus). 
URL:https://aujoyeuxbazar.com/atelier/atelier-creatif-adulte-enfant-instrument-de-musique-recup-12-13-14/
LOCATION:L’Essentielle Epicerie Vrac\, 48 Av Lacassagne\, Lyon\, France\, 69003\, France
CATEGORIES:Atelier Créatif (3-10 ans),Créatif
ATTACH;FMTTYPE=image/png:https://aujoyeuxbazar.com/wp-content/uploads/2023/10/Essentielle-Crea-09-12-23.png
ORGANIZER;CN="Festival de l'Apprendre 2024":MAILTO:aujoyeuxbazardeclaire@gmail.com
END:VEVENT
BEGIN:VEVENT
DTSTART;TZID=Europe/Paris:20231118T103000
DTEND;TZID=Europe/Paris:20231118T113000
DTSTAMP:20260424T092329
CREATED:20231009T100048Z
LAST-MODIFIED:20231009T143348Z
UID:10000162-1700303400-1700307000@aujoyeuxbazar.com
SUMMARY:Atelier Créatif Adulte-Enfant " Perles à Repasser de Noel "
DESCRIPTION:Les fêtes de fin d’année approchant\, il est possible que votre logement commence à se parer de décorations… Connaissez-vous les perles à repasser ? \nUne activité toute simple\, mais ludique\, et très intéressante pour développer la motricité fine\, la concentration et la créativité libre\, qui peut\, en plus\, se transformer en décorations originales et personnalisées pour votre arbre de noël 😊 ! \nUn moment créatif et ludique pour profiter d’un moment complice en famille\, loin des écrans et des contraintes de la maison\, pour rentrer doucement dans la période de préparation des fêtes de Noël ! \nPublic : Atelier adulte – enfant (environ 5-10 ans). Tarif :– Place Duo = adulte(s) avec 1 enfant => 15€ ;– Place Trio = adulte(s) avec 2 enfants => 25€ ;– Place sur liste d’attente possible si l’atelier est complet ! Info et Inscription (obligatoire) auprès de Au Joyeux Bazar de Claire directement ci-dessous\, en fonction de la composition de votre famille (cf ci-dessus). 
URL:https://aujoyeuxbazar.com/atelier/atelier-creatif-adulte-enfant-instrument-de-musique-recup-12-13/
LOCATION:L’Essentielle Epicerie Vrac\, 48 Av Lacassagne\, Lyon\, France\, 69003\, France
CATEGORIES:Atelier Créatif (3-10 ans),Créatif
ATTACH;FMTTYPE=image/png:https://aujoyeuxbazar.com/wp-content/uploads/2022/06/Atelier-Essentielle-18-11-23.png
ORGANIZER;CN="Festival de l'Apprendre 2024":MAILTO:aujoyeuxbazardeclaire@gmail.com
END:VEVENT
BEGIN:VEVENT
DTSTART;TZID=Europe/Paris:20230614T103000
DTEND;TZID=Europe/Paris:20230614T120000
DTSTAMP:20260424T092329
CREATED:20220607T100048Z
LAST-MODIFIED:20230508T124652Z
UID:10000137-1686738600-1686744000@aujoyeuxbazar.com
SUMMARY:Atelier Créatif Adulte-Enfant " Mon Tableau de Famille "
DESCRIPTION:Le mois de juin est un mois riche en fêtes et en occasion de faire plaisir à ceux que l’on aime…. : Fête des Mères\, Fête des Pères\,… ! \nEt si cette année\, vous veniez\, tout simplement\, célébrer votre Famille\, en passant un moment complice tous ensemble ? \nVenez profiter d’un atelier créatif\, pendant lequel\, vous pourrez\, ensemble\, réaliser une Carte originale et personnalisée de votre Famille ! \nUn atelier qui associe créativité\, motricité fine dans une ambiance bienveillante et conviviale pour profiter d’un moment de partage en famille\, loin des écrans et des contraintes de la maison. \nPublic : Atelier adulte – enfant (environ 4-10 ans). Tarif :– Place Duo = adulte(s) avec 1 enfant => 16€ ;– Place Trio = adulte(s) avec 2 enfants => 28€ ;– Place sur liste d’attente possible si l’atelier est complet ! Info et Inscription (obligatoire) auprès de Au Joyeux Bazar de Claire directement ci-dessous\, en fonction de la composition de votre famille (cf ci-dessus).
URL:https://aujoyeuxbazar.com/atelier/atelier-creatif-adulte-enfant-instrument-de-musique-recup-12/
LOCATION:L’Essentielle Epicerie Vrac\, 48 Av Lacassagne\, Lyon\, France\, 69003\, France
CATEGORIES:Atelier Créatif (3-10 ans),Créatif
ATTACH;FMTTYPE=image/png:https://aujoyeuxbazar.com/wp-content/uploads/2022/06/14-06-23-Essentielle.png
ORGANIZER;CN="Festival de l'Apprendre 2024":MAILTO:aujoyeuxbazardeclaire@gmail.com
END:VEVENT
BEGIN:VEVENT
DTSTART;TZID=Europe/Paris:20230517T103000
DTEND;TZID=Europe/Paris:20230517T120000
DTSTAMP:20260424T092329
CREATED:20220607T100048Z
LAST-MODIFIED:20230404T154156Z
UID:10000115-1684319400-1684324800@aujoyeuxbazar.com
SUMMARY:Atelier Créatif Adulte-Enfant "Petites Bêtes Recup en Folie"
DESCRIPTION:Les petites bêtes des jardins sont souvent un sujet d’expérimentation et de plaisir pour les touts petits ! Ils aiment les découvrir\, les contempler\, les toucher et les ramener à la maison :). \nEt si\, pour une fois\, ils devenaient aussi une source d’amusement et de créativité ? \nVenez fabriquer\, en famille\, leur petites bêtes préférées\, à base de matière de récup ! \nUn atelier qui associe créativité\, motricité fine dans une ambiance bienveillante et conviviale pour profiter d’un moment de partage en famille\, loin des écrans et des contraintes de la maison. \nPublic : Atelier adulte – enfant (environ 4-10 ans). Tarif :– Place Duo = adulte(s) avec 1 enfant => 16€ ;– Place Trio = adulte(s) avec 2 enfants => 28€ ;– Place sur liste d’attente possible si l’atelier est complet ! Info et Inscription (obligatoire) auprès de Au Joyeux Bazar de Claire directement ci-dessous\, en fonction de la composition de votre famille (cf ci-dessus). 
URL:https://aujoyeuxbazar.com/atelier/atelier-creatif-adulte-enfant-instrument-de-musique-recup/
LOCATION:L’Essentielle Epicerie Vrac\, 48 Av Lacassagne\, Lyon\, France\, 69003\, France
CATEGORIES:Atelier Créatif (3-10 ans),Créatif
ATTACH;FMTTYPE=image/png:https://aujoyeuxbazar.com/wp-content/uploads/2022/06/6.png
ORGANIZER;CN="Festival de l'Apprendre 2024":MAILTO:aujoyeuxbazardeclaire@gmail.com
END:VEVENT
END:VCALENDAR