BEGIN:VCALENDAR
VERSION:2.0
PRODID:-//Au Joyeux Bazar - ECPv6.15.20//NONSGML v1.0//EN
CALSCALE:GREGORIAN
METHOD:PUBLISH
X-ORIGINAL-URL:https://aujoyeuxbazar.com
X-WR-CALDESC:Évènements pour Au Joyeux Bazar
REFRESH-INTERVAL;VALUE=DURATION:PT1H
X-Robots-Tag:noindex
X-PUBLISHED-TTL:PT1H
BEGIN:VTIMEZONE
TZID:Europe/Paris
BEGIN:DAYLIGHT
TZOFFSETFROM:+0100
TZOFFSETTO:+0200
TZNAME:CEST
DTSTART:20220327T010000
END:DAYLIGHT
BEGIN:STANDARD
TZOFFSETFROM:+0200
TZOFFSETTO:+0100
TZNAME:CET
DTSTART:20221030T010000
END:STANDARD
BEGIN:DAYLIGHT
TZOFFSETFROM:+0100
TZOFFSETTO:+0200
TZNAME:CEST
DTSTART:20230326T010000
END:DAYLIGHT
BEGIN:STANDARD
TZOFFSETFROM:+0200
TZOFFSETTO:+0100
TZNAME:CET
DTSTART:20231029T010000
END:STANDARD
BEGIN:DAYLIGHT
TZOFFSETFROM:+0100
TZOFFSETTO:+0200
TZNAME:CEST
DTSTART:20240331T010000
END:DAYLIGHT
BEGIN:STANDARD
TZOFFSETFROM:+0200
TZOFFSETTO:+0100
TZNAME:CET
DTSTART:20241027T010000
END:STANDARD
BEGIN:DAYLIGHT
TZOFFSETFROM:+0100
TZOFFSETTO:+0200
TZNAME:CEST
DTSTART:20250330T010000
END:DAYLIGHT
BEGIN:STANDARD
TZOFFSETFROM:+0200
TZOFFSETTO:+0100
TZNAME:CET
DTSTART:20251026T010000
END:STANDARD
BEGIN:DAYLIGHT
TZOFFSETFROM:+0100
TZOFFSETTO:+0200
TZNAME:CEST
DTSTART:20260329T010000
END:DAYLIGHT
BEGIN:STANDARD
TZOFFSETFROM:+0200
TZOFFSETTO:+0100
TZNAME:CET
DTSTART:20261025T010000
END:STANDARD
END:VTIMEZONE
BEGIN:VEVENT
DTSTART;TZID=Europe/Paris:20250419T103000
DTEND;TZID=Europe/Paris:20250419T113000
DTSTAMP:20260424T080437
CREATED:20250327T213839Z
LAST-MODIFIED:20250418T165650Z
UID:10000253-1745058600-1745062200@aujoyeuxbazar.com
SUMMARY:Atelier Eveil Manuel Parent-Enfant « Vive la Peinture »
DESCRIPTION:L’atelier où les tous petits peuvent s’éveiller\, découvrir et librement patouiller ! \nLes enfants (et les parents) pourront découvrir et profiter des joies de la peinture (notamment “propre”) pour réaliser de jolies créations. \nUn atelier qui associe découverte sensorielle\, motricité et bienveillance à partager avec son enfant pour profiter d’un moment de complicité en famille\, loin des écrans et des contraintes de la maison…. \nPublic : Atelier adulte – enfant (environ 1-5 ans) \nInfo et Inscription (Obligatoire) auprès de Au Joyeux Bazar de Claire directement ci-dessous\, en fonction de la composition de votre famille. \nEn cas d’inscription tardive (le jour même)\, merci de me contacter directement par téléphone au : 06.84.00.84.29 ! \nTarif :\n– Place Duo = adulte(s) avec 1 enfant => 15€ ;\n– Place Trio = adulte(s) avec 2 enfants => 25€ ;\n– Place sur liste d’attente possible si l’atelier est complet !
URL:https://aujoyeuxbazar.com/atelier/atelier-eveil-manuel-parent-enfant-vive-la-peinture/
LOCATION:L’Essentielle Epicerie Vrac\, 48 Av Lacassagne\, Lyon\, France\, 69003\, France
CATEGORIES:Atelier d’Eveil (0-4 ans),Eveil Manuel
ATTACH;FMTTYPE=image/png:https://aujoyeuxbazar.com/wp-content/uploads/2025/03/Vive-Peinture-Bis-19-04-25.png
ORGANIZER;CN="Au Joyeux Bazar de Claire":MAILTO:aujoyeuxbazardeclaire@gmail.com
END:VEVENT
BEGIN:VEVENT
DTSTART;TZID=Europe/Paris:20250125T103000
DTEND;TZID=Europe/Paris:20250125T120000
DTSTAMP:20260424T080437
CREATED:20241213T160032Z
LAST-MODIFIED:20250123T191159Z
UID:10000242-1737801000-1737806400@aujoyeuxbazar.com
SUMMARY:Atelier CréA Conte Parent-Enfant - Thème “Lune & Soleil”
DESCRIPTION:Autour de l’imaginaire de contes sur le thème de la Lune\, du soleil et des astres\, venez écouter\, puis réaliser une jolie création douce et lumineuse\, pour découvrir une nouvelle technique d’art visuel et profiter du Nouvel An Lunaire ! \nUn atelier qui associe créativité\, motricité fine et bienveillance pour profiter d’un moment de partage en famille\, loin des écrans et des contraintes de la maison…. \nPublic : Atelier adulte – enfant (environ 3-6 ans). \nTarif : \n– Place Duo = adulte(s) avec 1 enfant => 15€ ; \n– Place Trio = adulte(s) avec 2 enfants => 25€ ; \n– Place sur liste d’attente possible si l’atelier est complet ! \nInfo et Inscription (obligatoire) auprès de Au Joyeux Bazar de Claire directement ci-dessous\, en fonction de la composition de votre famille (cf ci-dessus).
URL:https://aujoyeuxbazar.com/atelier/atelier-crea-conte-parent-enfant-theme-lune-soleil/
LOCATION:L’Essentielle Epicerie Vrac\, 48 Av Lacassagne\, Lyon\, France\, 69003\, France
CATEGORIES:Atelier Créatif (3-10 ans),CreA Conte
ATTACH;FMTTYPE=image/png:https://aujoyeuxbazar.com/wp-content/uploads/2024/12/26.png
ORGANIZER;CN="Au Joyeux Bazar de Claire":MAILTO:aujoyeuxbazardeclaire@gmail.com
END:VEVENT
BEGIN:VEVENT
DTSTART;TZID=Europe/Paris:20241030T150000
DTEND;TZID=Europe/Paris:20241030T163000
DTSTAMP:20260424T080437
CREATED:20240925T071149Z
LAST-MODIFIED:20240926T154914Z
UID:10000231-1730300400-1730305800@aujoyeuxbazar.com
SUMMARY:Atelier Créatif Adulte-Enfant " Déco Recup pour DIVALI "
DESCRIPTION:DIVALI\, dont le nom signifie « rangée de lumières »\, est une fête très importante en Inde\, pendant laquelle on célèbre la victoire de la lumière sur les ténèbres\, de la connaissance sur l’ignorance\, et du bien sur le mal. \nEn famille\, venez fabriquer\, une jolie décoration recup et personnalisée s’inspirant de cette fête lumineuse ! \nUn moment créatif et de motricité pour profiter d’un moment complice et de partage en famille\, loin des écrans et des contraintes de la maison. \nPublic : Atelier adulte – enfant (environ 5-10 ans). \nTarif : \n– Place Duo = adulte(s) avec 1 enfant => 15€ ; \n– Place Trio = adulte(s) avec 2 enfants => 25€ ; \n– Place sur liste d’attente possible si l’atelier est complet ! \nInfo et Inscription (obligatoire) auprès de Au Joyeux Bazar de Claire directement ci-dessous\, en fonction de la composition de votre famille (cf ci-dessus).
URL:https://aujoyeuxbazar.com/atelier/atelier-creatif-adulte-enfant-deco-recup-pour-divali/
LOCATION:L’Essentielle Epicerie Vrac\, 48 Av Lacassagne\, Lyon\, France\, 69003\, France
CATEGORIES:Atelier Créatif (3-10 ans),Créatif
ATTACH;FMTTYPE=image/png:https://aujoyeuxbazar.com/wp-content/uploads/2024/01/Insta-Essentielle-30-10-24-vreatif-bis.png
ORGANIZER;CN="Au Joyeux Bazar de Claire":MAILTO:aujoyeuxbazardeclaire@gmail.com
END:VEVENT
BEGIN:VEVENT
DTSTART;TZID=Europe/Paris:20241030T103000
DTEND;TZID=Europe/Paris:20241030T120000
DTSTAMP:20260424T080437
CREATED:20240920T085746Z
LAST-MODIFIED:20241028T144933Z
UID:10000225-1730284200-1730289600@aujoyeuxbazar.com
SUMMARY:Atelier CréA Conte Parent-Enfant - Thème “Les Monstres...”
DESCRIPTION:Autour de l’imaginaire de contes sur le thème des Monstres\, venez écouter\, puis réaliser une jolie création effrayante (ou pas)\, pour se mettre dans l’univers d’Halloween et apprivoiser doucement les petites peurs de nos enfants. \nUn atelier qui associe créativité\, motricité fine et bienveillance pour profiter d’un moment de partage en famille\, loin des écrans et des contraintes de la maison…. \nPublic : Atelier adulte – enfant (environ 3-6 ans). \nTarif : \n– Place Duo = adulte(s) avec 1 enfant => 15€ ; \n– Place Trio = adulte(s) avec 2 enfants => 25€ ; \n– Place sur liste d’attente possible si l’atelier est complet ! \nInfo et Inscription (obligatoire) auprès de Au Joyeux Bazar de Claire directement ci-dessous\, en fonction de la composition de votre famille (cf ci-dessus).
URL:https://aujoyeuxbazar.com/atelier/atelier-crea-conte-parent-enfant-theme-les-monstres/
LOCATION:L’Essentielle Epicerie Vrac\, 48 Av Lacassagne\, Lyon\, France\, 69003\, France
CATEGORIES:Atelier Créatif (3-10 ans),CreA Conte
ATTACH;FMTTYPE=image/png:https://aujoyeuxbazar.com/wp-content/uploads/2024/05/24.png
ORGANIZER;CN="Au Joyeux Bazar de Claire":MAILTO:aujoyeuxbazardeclaire@gmail.com
END:VEVENT
BEGIN:VEVENT
DTSTART;TZID=Europe/Paris:20240615T150000
DTEND;TZID=Europe/Paris:20240615T163000
DTSTAMP:20260424T080437
CREATED:20240506T105746Z
LAST-MODIFIED:20240527T154203Z
UID:10000209-1718463600-1718469000@aujoyeuxbazar.com
SUMMARY:Atelier CréA Conte Parent-Enfant - Thème “Bateau sur l'Eau”
DESCRIPTION:Autour de l’imaginaire de contes sur le thème de la Mer\, venez écouter\, puis réaliser une jolie création flottante et recup\, avec laquelle votre enfant pourra jouer tout l’été ! \nUn atelier qui associe créativité\, motricité fine et bienveillance pour profiter d’un moment de partage en famille\, loin des écrans et des contraintes de la maison…. \nPublic : Atelier adulte – enfant (environ 3-6 ans). \nTarif : \n– Place Duo = adulte(s) avec 1 enfant => 15€ ; \n– Place Trio = adulte(s) avec 2 enfants => 25€ ; \n– Place sur liste d’attente possible si l’atelier est complet ! \nInfo et Inscription (obligatoire) auprès de Au Joyeux Bazar de Claire directement ci-dessous\, en fonction de la composition de votre famille (cf ci-dessus).
URL:https://aujoyeuxbazar.com/atelier/atelier-crea-conte-parent-enfant-theme-bateau-sur-leau-2/
LOCATION:L’Essentielle Epicerie Vrac\, 48 Av Lacassagne\, Lyon\, France\, 69003\, France
CATEGORIES:Atelier Créatif (3-10 ans),CreA Conte
ATTACH;FMTTYPE=image/png:https://aujoyeuxbazar.com/wp-content/uploads/2024/05/Essentielle-CreAcontes-15-06-24-Bis.png
ORGANIZER;CN="Au Joyeux Bazar de Claire":MAILTO:aujoyeuxbazardeclaire@gmail.com
END:VEVENT
BEGIN:VEVENT
DTSTART;TZID=Europe/Paris:20240615T103000
DTEND;TZID=Europe/Paris:20240615T113000
DTSTAMP:20260424T080437
CREATED:20240506T110155Z
LAST-MODIFIED:20240506T133556Z
UID:10000210-1718447400-1718451000@aujoyeuxbazar.com
SUMMARY:Atelier Eveil & Contes Parent-Enfant (1-5 ans) – Thème « Mer & Soleil »
DESCRIPTION:L’été est proche et avec lui\, la perspective d’une météo clémente remplie de la douceur du soleil et de la fraicheur de l’eau ! \nAlors en attendant les vacances et le bonheur des jeux extérieurs et d’eau\, venez partager un moment d’histoires\, de chansons et de jeux sur le thème de « la Mer et du Soleil ». \nUn atelier qui associe découverte sensorielle\, motricité et bienveillance à partager avec son enfant pour profiter d’un moment de complicité en famille\, loin des écrans et des contraintes de la maison…. \nL’atelier se compose du temps d’histoires d’environ 30-40 min + d’un temps de lecture libre. \nPublic : Atelier adulte – enfant (1-5ans). \nTarif : \n– Place Duo = adulte(s) avec 1 enfant => 12€ ; \n– Place Trio = adulte(s) avec 2 enfants => 18€ ; \n– Place sur liste d’attente possible si l’atelier est complet ! \nInfo et Inscription (obligatoire) auprès de Au Joyeux Bazar de Claire directement ci-dessous\, en fonction de la composition de votre famille (cf ci-dessus).
URL:https://aujoyeuxbazar.com/atelier/atelier-eveil-contes-parent-enfant-1-5-ans-theme-mer-soleil/
LOCATION:L’Essentielle Epicerie Vrac\, 48 Av Lacassagne\, Lyon\, France\, 69003\, France
CATEGORIES:Atelier d’Eveil (0-4 ans),Eveil & Contes
ATTACH;FMTTYPE=image/png:https://aujoyeuxbazar.com/wp-content/uploads/2024/05/Essentielle-Contes-15-06-24-Bis.png
ORGANIZER;CN="Au Joyeux Bazar de Claire":MAILTO:aujoyeuxbazardeclaire@gmail.com
END:VEVENT
BEGIN:VEVENT
DTSTART;TZID=Europe/Paris:20240525T103000
DTEND;TZID=Europe/Paris:20240525T113000
DTSTAMP:20260424T080437
CREATED:20240307T090048Z
LAST-MODIFIED:20240506T102018Z
UID:10000204-1716633000-1716636600@aujoyeuxbazar.com
SUMMARY:Atelier Créatif Parent-Enfant - “ Boule à Paillettes Photo DIY & Recup pour la Fête des Mamans”
DESCRIPTION:Tout le monde connait le principe des boules à neige\, mais en avez-vous déjà fabriqué une ? Et avez-\nvous déjà pensé y mettre une jolie photo de votre famille ou de votre enfant ? \nAlors si vous avez envie de vous y essayer\, venez réaliser en famille une boule à paillettes à la fois\npersonnelle\, unique et en matière de recup ! \nUne chouette façon de profiter d’un temps en duo Mère-Enfant ou de préparer un cadeau original pour sa maman chérie ! \nUn atelier qui associe créativité\, motricité fine et bienveillance pour profiter d’un moment complice en famille\, à quelques heures de la Fête des Mères\, loin des écrans et des contraintes de la maison…. \nPublic : Atelier adulte – enfant (environ 4-10 ans). \nTarif :\n– Place Duo = adulte(s) avec 1 enfant => 15€ ;\n– Place Trio = adulte(s) avec 2 enfants => 25€ ;\n– Place sur liste d’attente possible si l’atelier est complet ! \nInfo et Inscription (obligatoire) auprès de Au Joyeux Bazar de Claire directement ci-dessous\, en fonction de la composition de votre famille (cf ci-dessus).
URL:https://aujoyeuxbazar.com/atelier/atelier-creatif-parent-enfant-boule-a-paillettes-diy-recup-fete-des-mamans/
LOCATION:L’Essentielle Epicerie Vrac\, 48 Av Lacassagne\, Lyon\, France\, 69003\, France
CATEGORIES:Atelier Créatif (3-10 ans),Créatif
ATTACH;FMTTYPE=image/png:https://aujoyeuxbazar.com/wp-content/uploads/2024/02/Capture-decran-2024-03-07-a-15.26.52.png
ORGANIZER;CN="Au Joyeux Bazar de Claire":MAILTO:aujoyeuxbazardeclaire@gmail.com
END:VEVENT
BEGIN:VEVENT
DTSTART;TZID=Europe/Paris:20240427T150000
DTEND;TZID=Europe/Paris:20240427T163000
DTSTAMP:20260424T080437
CREATED:20240229T090048Z
LAST-MODIFIED:20240506T102147Z
UID:10000196-1714230000-1714235400@aujoyeuxbazar.com
SUMMARY:Atelier CréA Conte Parent-Enfant - Thème “Super Héros”
DESCRIPTION:Autour de l’imaginaire d’un conte\, venez écouter\, puis réaliser une jolie création de…. Super Héros ! \nAprès la lecture offerte d’un conte héroïque\, votre enfant pourra se fabriquer des Manchons de Super Héros\, à l’effigie de son héros préféré ou selon ses propres envies\, car ce sera lui le Héros de l’atelier ! \nUn atelier qui associe créativité\, motricité fine et bienveillance pour profiter d’un moment de partage en famille\, loin des écrans et des contraintes de la maison…. \nPublic : Atelier adulte – enfant (environ 3-6 ans). \nTarif :\n– Place Duo = adulte(s) avec 1 enfant => 15€ ;\n– Place Trio = adulte(s) avec 2 enfants => 25€ ;\n– Place sur liste d’attente possible si l’atelier est complet ! \nInfo et Inscription (obligatoire) auprès de Au Joyeux Bazar de Claire directement ci-dessous\, en fonction de la composition de votre famille (cf ci-dessus).\nSi vous souhaitez recevoir\, une fois par moi
URL:https://aujoyeuxbazar.com/atelier/atelier-crea-conte-parent-enfant-theme-super-heros/
LOCATION:L’Essentielle Epicerie Vrac\, 48 Av Lacassagne\, Lyon\, France\, 69003\, France
CATEGORIES:Atelier Créatif (3-10 ans),CreA Conte
ATTACH;FMTTYPE=image/png:https://aujoyeuxbazar.com/wp-content/uploads/2024/02/Capture-decran-2024-02-29-a-11.55.59.png
ORGANIZER;CN="Au Joyeux Bazar de Claire":MAILTO:aujoyeuxbazardeclaire@gmail.com
END:VEVENT
BEGIN:VEVENT
DTSTART;TZID=Europe/Paris:20240427T103000
DTEND;TZID=Europe/Paris:20240427T113000
DTSTAMP:20260424T080437
CREATED:20240229T090048Z
LAST-MODIFIED:20240506T102200Z
UID:10000195-1714213800-1714217400@aujoyeuxbazar.com
SUMMARY:Atelier Eveil & Contes Parent-Enfant (1-5 ans) – Thème « Super Héros »
DESCRIPTION:Tout le monde connait les super héros et de nombreux enfants en sont fan ! Ils en existe pleins\, à collant\, à poils\, qui volent\, avec ou sans masque\,… et chacun à son préféré…. Mais peut-être qu’il en existe d’autres\, moins connus\, mais plus proches de nous… \nVenez découvrir\, écouter\, toucher et vous émerveiller au travers d’histoires\, de comptines et de\njeux…. et découvrir que nous sommes tous un peu des super héros 🦸‍♀️ ! \nUn atelier qui associe découverte sensorielle\, motricité et bienveillance à partager avec son enfant pour profiter d’un moment de complicité en famille\, loin des écrans et des contraintes de la maison…. \nL’atelier se compose du temps d’histoires d’environ 30-40 min + d’un temps de lecture libre. \nPublic : Atelier adulte – enfant (1-5ans). \nTarif :\n– Place Duo = adulte(s) avec 1 enfant => 12€ ;\n– Place Trio = adulte(s) avec 2 enfants => 18€ ;\n– Place sur liste d’attente possible si l’atelier est complet ! \nInfo et Inscription (obligatoire) auprès de Au Joyeux Bazar de Claire directement ci-dessous\, en fonction de la composition de votre famille (cf ci-dessus).
URL:https://aujoyeuxbazar.com/atelier/atelier-eveil-conte-parent-enfant-theme-super-heros/
LOCATION:L’Essentielle Epicerie Vrac\, 48 Av Lacassagne\, Lyon\, France\, 69003\, France
CATEGORIES:Atelier d’Eveil (0-4 ans),Eveil & Contes
ATTACH;FMTTYPE=image/png:https://aujoyeuxbazar.com/wp-content/uploads/2024/02/Capture-decran-2024-02-29-a-11.30.27.png
ORGANIZER;CN="Au Joyeux Bazar de Claire":MAILTO:aujoyeuxbazardeclaire@gmail.com
END:VEVENT
BEGIN:VEVENT
DTSTART;TZID=Europe/Paris:20240316T103000
DTEND;TZID=Europe/Paris:20240316T120000
DTSTAMP:20260424T080437
CREATED:20240209T090048Z
LAST-MODIFIED:20240506T102427Z
UID:10000192-1710585000-1710590400@aujoyeuxbazar.com
SUMMARY:Atelier CréA Conte de Pâques «Toc Toc Toc\, Qui es-tu ? »
DESCRIPTION:Autour de l’imaginaire d’un conte\, venez écouter\, puis réaliser une jolie création pascale. \nA l’approche de Pâques\, c’est l’histoire « Toc Toc Toc\, qui es-tu ? » que je raconterai\, pour nous faire rentrer dans l’univers des œufs…. De Pâques… ?! 😊 \nUn atelier qui associe créativité\, motricité fine et bienveillance pour profiter d’un moment de partage en famille\, loin des écrans et des contraintes de la maison…. \nPublic : Atelier adulte – enfant (environ 3-6 ans). \nTarif :\n– Place Duo = adulte(s) avec 1 enfant => 15€ ;\n– Place Trio = adulte(s) avec 2 enfants => 25€ ;\n– Place sur liste d’attente possible si l’atelier est complet ! \nInfo et Inscription (obligatoire) auprès de Au Joyeux Bazar de Claire directement ci-dessous\, en fonction de la composition de votre famille (cf ci-dessus).
URL:https://aujoyeuxbazar.com/atelier/atelier-crea-conte-de-paques-toc-toc-qui-es-tu/
LOCATION:L’Essentielle Epicerie Vrac\, 48 Av Lacassagne\, Lyon\, France\, 69003\, France
CATEGORIES:Atelier Créatif (3-10 ans),CreA Conte
ATTACH;FMTTYPE=image/png:https://aujoyeuxbazar.com/wp-content/uploads/2023/12/insta-toc-toc.png
ORGANIZER;CN="Au Joyeux Bazar de Claire":MAILTO:aujoyeuxbazardeclaire@gmail.com
END:VEVENT
BEGIN:VEVENT
DTSTART;TZID=Europe/Paris:20240210T150000
DTEND;TZID=Europe/Paris:20240210T163000
DTSTAMP:20260424T080437
CREATED:20240112T110048Z
LAST-MODIFIED:20240209T190135Z
UID:10000184-1707577200-1707582600@aujoyeuxbazar.com
SUMMARY:Atelier Créatif Adulte-Enfant " Canon à Confettis et/ou Chapeau de Carnaval DIY & Recup "
DESCRIPTION:En prévision d’un Mardi Gras 2024 festif et ludique\, venez fabriquer en famille\, des canons à confettis et/ou votre chapeau de carnaval\, DIY & Recup !! \nAlors oui\, cela va peut-être mettre un peu de bazar\, mais cela sera tellement chouette à fabriquer et drôle à utiliser que je n’ai pas pu résister 😊 ! \nUn atelier ludique et créatif pour profiter d’un moment complice en famille\, loin des écrans et des contraintes de la maison…. \nPublic : Atelier adulte – enfant (environ 4-10 ans). \nTarif :– Place Duo = adulte(s) avec 1 enfant => 15€ ;– Place Trio = adulte(s) avec 2 enfants => 25€ ;– Place sur liste d’attente possible si l’atelier est complet ! Info et Inscription (obligatoire) auprès de Au Joyeux Bazar de Claire directement ci-dessous\, en fonction de la composition de votre famille (cf ci-dessus).
URL:https://aujoyeuxbazar.com/atelier/atelier-creatif-adulte-enfant-canon-a-confettis-et-ou-chapeau-de-carnaval-diy-recup/
LOCATION:L’Essentielle Epicerie Vrac\, 48 Av Lacassagne\, Lyon\, France\, 69003\, France
CATEGORIES:Atelier Créatif (3-10 ans),Créatif
ATTACH;FMTTYPE=image/png:https://aujoyeuxbazar.com/wp-content/uploads/2023/10/9.png
ORGANIZER;CN="Au Joyeux Bazar de Claire":MAILTO:aujoyeuxbazardeclaire@gmail.com
END:VEVENT
BEGIN:VEVENT
DTSTART;TZID=Europe/Paris:20240210T103000
DTEND;TZID=Europe/Paris:20240210T120000
DTSTAMP:20260424T080437
CREATED:20240111T090048Z
LAST-MODIFIED:20240209T190016Z
UID:10000179-1707561000-1707566400@aujoyeuxbazar.com
SUMMARY:Atelier Créatif "Canon à Confettis et Chapeau de Carnaval\, DIY & Recup"
DESCRIPTION:En prévision d’un Mardi Gras et d’un Carnaval 2024 festif et ludique\, venez fabriquer en famille\, des canons à confettis et/ou un Chapeau de Carnaval\, DIY & Recup !! \nAlors oui\, cela va peut-être mettre un peu de bazar\, mais cela sera tellement chouette à fabriquer et drôle à utiliser que je n’ai pas pu résister 😊 ! \nUn atelier ludique et créatif pour profiter d’un moment complice en famille\, loin des écrans et des contraintes de la maison…. \nPublic : Atelier adulte – enfant (environ 4-10 ans). \nTarif :– Place Duo = adulte(s) avec 1 enfant => 15€ ;– Place Trio = adulte(s) avec 2 enfants => 25€ ;– Place sur liste d’attente possible si l’atelier est complet ! Info et Inscription (obligatoire) auprès de Au Joyeux Bazar de Claire directement ci-dessous\, en fonction de la composition de votre famille (cf ci-dessus).
URL:https://aujoyeuxbazar.com/atelier/atelier-creatif-canon-a-confettis-diy-recup/
LOCATION:L’Essentielle Epicerie Vrac\, 48 Av Lacassagne\, Lyon\, France\, 69003\, France
CATEGORIES:Atelier Créatif (3-10 ans),Créatif
ATTACH;FMTTYPE=image/png:https://aujoyeuxbazar.com/wp-content/uploads/2024/01/Atelier-Essentielle-Bis-10-02-24.png
ORGANIZER;CN="Au Joyeux Bazar de Claire":MAILTO:aujoyeuxbazardeclaire@gmail.com
END:VEVENT
BEGIN:VEVENT
DTSTART;TZID=Europe/Paris:20240120T103000
DTEND;TZID=Europe/Paris:20240120T120000
DTSTAMP:20260424T080437
CREATED:20231222T090048Z
LAST-MODIFIED:20231222T092343Z
UID:10000176-1705746600-1705752000@aujoyeuxbazar.com
SUMMARY:Atelier CréA Conte " Le Flocon de Noëlle "
DESCRIPTION:Autour de l’imaginaire d’un conte\, venez écouter\, puis réaliser une jolie création. \nPour cette 1ère séance de l’année\, c’est un conte d’hiver mettant à l’honneur la neige que l’on découvrira ensemble ! \nUn atelier qui associe créativité\, motricité fine et bienveillance pour profiter d’un moment de partage en famille\, loin des écrans et des contraintes de la maison…. \nPublic : Atelier adulte – enfant (environ 3-6 ans). \n Tarif :– Place Duo = adulte(s) avec 1 enfant => 15€ ;– Place Trio = adulte(s) avec 2 enfants => 25€ ;– Place sur liste d’attente possible si l’atelier est complet ! Info et Inscription (obligatoire) auprès de Au Joyeux Bazar de Claire directement ci-dessous\, en fonction de la composition de votre famille (cf ci-dessus). 
URL:https://aujoyeuxbazar.com/atelier/atelier-crea-conte-le-flocon-de-noelle/
LOCATION:L’Essentielle Epicerie Vrac\, 48 Av Lacassagne\, Lyon\, France\, 69003\, France
CATEGORIES:Atelier Créatif (3-10 ans),CreA Conte
ATTACH;FMTTYPE=image/png:https://aujoyeuxbazar.com/wp-content/uploads/2023/10/Atelier-Essentielle-20-01-24-Bis.png
ORGANIZER;CN="Festival de l'Apprendre 2024":MAILTO:aujoyeuxbazardeclaire@gmail.com
END:VEVENT
BEGIN:VEVENT
DTSTART;TZID=Europe/Paris:20231209T103000
DTEND;TZID=Europe/Paris:20231209T120000
DTSTAMP:20260424T080437
CREATED:20231020T100048Z
LAST-MODIFIED:20231020T134356Z
UID:10000165-1702117800-1702123200@aujoyeuxbazar.com
SUMMARY:Atelier Créatif Adulte-Enfant " Cadeau de Noël pour Maître(sse) "
DESCRIPTION:La période des Fêtes est une période propice à faire plaisir\, notamment avec des cadeaux DIY ! \nAlors cette année\, j’avais envie de vous proposer de réaliser ensemble un cadeau pour votre maître(sse) : un joli bocal recup\, créatif et personnalisé que vous pourrez ensuite remplir selon vos envies (gâteaux\, chocolats\, mots doux\,…) 😊 \nUn moment créatif et ludique pour profiter d’un moment complice en famille\, loin des écrans et des contraintes de la maison\, pour s’approcher tendrement  des fêtes de Noël ! \nPublic : Atelier adulte – enfant (environ 4-10 ans). Tarif :– Place Duo = adulte(s) avec 1 enfant => 15€ ;– Place Trio = adulte(s) avec 2 enfants => 25€ ;– Place sur liste d’attente possible si l’atelier est complet ! Info et Inscription (obligatoire) auprès de Au Joyeux Bazar de Claire directement ci-dessous\, en fonction de la composition de votre famille (cf ci-dessus). 
URL:https://aujoyeuxbazar.com/atelier/atelier-creatif-adulte-enfant-instrument-de-musique-recup-12-13-14/
LOCATION:L’Essentielle Epicerie Vrac\, 48 Av Lacassagne\, Lyon\, France\, 69003\, France
CATEGORIES:Atelier Créatif (3-10 ans),Créatif
ATTACH;FMTTYPE=image/png:https://aujoyeuxbazar.com/wp-content/uploads/2023/10/Essentielle-Crea-09-12-23.png
ORGANIZER;CN="Festival de l'Apprendre 2024":MAILTO:aujoyeuxbazardeclaire@gmail.com
END:VEVENT
BEGIN:VEVENT
DTSTART;TZID=Europe/Paris:20231118T103000
DTEND;TZID=Europe/Paris:20231118T113000
DTSTAMP:20260424T080437
CREATED:20231009T100048Z
LAST-MODIFIED:20231009T143348Z
UID:10000162-1700303400-1700307000@aujoyeuxbazar.com
SUMMARY:Atelier Créatif Adulte-Enfant " Perles à Repasser de Noel "
DESCRIPTION:Les fêtes de fin d’année approchant\, il est possible que votre logement commence à se parer de décorations… Connaissez-vous les perles à repasser ? \nUne activité toute simple\, mais ludique\, et très intéressante pour développer la motricité fine\, la concentration et la créativité libre\, qui peut\, en plus\, se transformer en décorations originales et personnalisées pour votre arbre de noël 😊 ! \nUn moment créatif et ludique pour profiter d’un moment complice en famille\, loin des écrans et des contraintes de la maison\, pour rentrer doucement dans la période de préparation des fêtes de Noël ! \nPublic : Atelier adulte – enfant (environ 5-10 ans). Tarif :– Place Duo = adulte(s) avec 1 enfant => 15€ ;– Place Trio = adulte(s) avec 2 enfants => 25€ ;– Place sur liste d’attente possible si l’atelier est complet ! Info et Inscription (obligatoire) auprès de Au Joyeux Bazar de Claire directement ci-dessous\, en fonction de la composition de votre famille (cf ci-dessus). 
URL:https://aujoyeuxbazar.com/atelier/atelier-creatif-adulte-enfant-instrument-de-musique-recup-12-13/
LOCATION:L’Essentielle Epicerie Vrac\, 48 Av Lacassagne\, Lyon\, France\, 69003\, France
CATEGORIES:Atelier Créatif (3-10 ans),Créatif
ATTACH;FMTTYPE=image/png:https://aujoyeuxbazar.com/wp-content/uploads/2022/06/Atelier-Essentielle-18-11-23.png
ORGANIZER;CN="Festival de l'Apprendre 2024":MAILTO:aujoyeuxbazardeclaire@gmail.com
END:VEVENT
BEGIN:VEVENT
DTSTART;TZID=Europe/Paris:20230614T103000
DTEND;TZID=Europe/Paris:20230614T120000
DTSTAMP:20260424T080437
CREATED:20220607T100048Z
LAST-MODIFIED:20230508T124652Z
UID:10000137-1686738600-1686744000@aujoyeuxbazar.com
SUMMARY:Atelier Créatif Adulte-Enfant " Mon Tableau de Famille "
DESCRIPTION:Le mois de juin est un mois riche en fêtes et en occasion de faire plaisir à ceux que l’on aime…. : Fête des Mères\, Fête des Pères\,… ! \nEt si cette année\, vous veniez\, tout simplement\, célébrer votre Famille\, en passant un moment complice tous ensemble ? \nVenez profiter d’un atelier créatif\, pendant lequel\, vous pourrez\, ensemble\, réaliser une Carte originale et personnalisée de votre Famille ! \nUn atelier qui associe créativité\, motricité fine dans une ambiance bienveillante et conviviale pour profiter d’un moment de partage en famille\, loin des écrans et des contraintes de la maison. \nPublic : Atelier adulte – enfant (environ 4-10 ans). Tarif :– Place Duo = adulte(s) avec 1 enfant => 16€ ;– Place Trio = adulte(s) avec 2 enfants => 28€ ;– Place sur liste d’attente possible si l’atelier est complet ! Info et Inscription (obligatoire) auprès de Au Joyeux Bazar de Claire directement ci-dessous\, en fonction de la composition de votre famille (cf ci-dessus).
URL:https://aujoyeuxbazar.com/atelier/atelier-creatif-adulte-enfant-instrument-de-musique-recup-12/
LOCATION:L’Essentielle Epicerie Vrac\, 48 Av Lacassagne\, Lyon\, France\, 69003\, France
CATEGORIES:Atelier Créatif (3-10 ans),Créatif
ATTACH;FMTTYPE=image/png:https://aujoyeuxbazar.com/wp-content/uploads/2022/06/14-06-23-Essentielle.png
ORGANIZER;CN="Festival de l'Apprendre 2024":MAILTO:aujoyeuxbazardeclaire@gmail.com
END:VEVENT
BEGIN:VEVENT
DTSTART;TZID=Europe/Paris:20230517T103000
DTEND;TZID=Europe/Paris:20230517T120000
DTSTAMP:20260424T080437
CREATED:20220607T100048Z
LAST-MODIFIED:20230404T154156Z
UID:10000115-1684319400-1684324800@aujoyeuxbazar.com
SUMMARY:Atelier Créatif Adulte-Enfant "Petites Bêtes Recup en Folie"
DESCRIPTION:Les petites bêtes des jardins sont souvent un sujet d’expérimentation et de plaisir pour les touts petits ! Ils aiment les découvrir\, les contempler\, les toucher et les ramener à la maison :). \nEt si\, pour une fois\, ils devenaient aussi une source d’amusement et de créativité ? \nVenez fabriquer\, en famille\, leur petites bêtes préférées\, à base de matière de récup ! \nUn atelier qui associe créativité\, motricité fine dans une ambiance bienveillante et conviviale pour profiter d’un moment de partage en famille\, loin des écrans et des contraintes de la maison. \nPublic : Atelier adulte – enfant (environ 4-10 ans). Tarif :– Place Duo = adulte(s) avec 1 enfant => 16€ ;– Place Trio = adulte(s) avec 2 enfants => 28€ ;– Place sur liste d’attente possible si l’atelier est complet ! Info et Inscription (obligatoire) auprès de Au Joyeux Bazar de Claire directement ci-dessous\, en fonction de la composition de votre famille (cf ci-dessus). 
URL:https://aujoyeuxbazar.com/atelier/atelier-creatif-adulte-enfant-instrument-de-musique-recup/
LOCATION:L’Essentielle Epicerie Vrac\, 48 Av Lacassagne\, Lyon\, France\, 69003\, France
CATEGORIES:Atelier Créatif (3-10 ans),Créatif
ATTACH;FMTTYPE=image/png:https://aujoyeuxbazar.com/wp-content/uploads/2022/06/6.png
ORGANIZER;CN="Festival de l'Apprendre 2024":MAILTO:aujoyeuxbazardeclaire@gmail.com
END:VEVENT
END:VCALENDAR