BEGIN:VCALENDAR
VERSION:2.0
PRODID:-//Au Joyeux Bazar - ECPv6.15.20//NONSGML v1.0//EN
CALSCALE:GREGORIAN
METHOD:PUBLISH
X-WR-CALNAME:Au Joyeux Bazar
X-ORIGINAL-URL:https://aujoyeuxbazar.com
X-WR-CALDESC:Évènements pour Au Joyeux Bazar
REFRESH-INTERVAL;VALUE=DURATION:PT1H
X-Robots-Tag:noindex
X-PUBLISHED-TTL:PT1H
BEGIN:VTIMEZONE
TZID:Europe/Paris
BEGIN:DAYLIGHT
TZOFFSETFROM:+0100
TZOFFSETTO:+0200
TZNAME:CEST
DTSTART:20220327T010000
END:DAYLIGHT
BEGIN:STANDARD
TZOFFSETFROM:+0200
TZOFFSETTO:+0100
TZNAME:CET
DTSTART:20221030T010000
END:STANDARD
BEGIN:DAYLIGHT
TZOFFSETFROM:+0100
TZOFFSETTO:+0200
TZNAME:CEST
DTSTART:20230326T010000
END:DAYLIGHT
BEGIN:STANDARD
TZOFFSETFROM:+0200
TZOFFSETTO:+0100
TZNAME:CET
DTSTART:20231029T010000
END:STANDARD
BEGIN:DAYLIGHT
TZOFFSETFROM:+0100
TZOFFSETTO:+0200
TZNAME:CEST
DTSTART:20240331T010000
END:DAYLIGHT
BEGIN:STANDARD
TZOFFSETFROM:+0200
TZOFFSETTO:+0100
TZNAME:CET
DTSTART:20241027T010000
END:STANDARD
END:VTIMEZONE
BEGIN:VEVENT
DTSTART;VALUE=DATE:20230305
DTEND;VALUE=DATE:20230306
DTSTAMP:20260423T173858
CREATED:20221004T132655Z
LAST-MODIFIED:20230309T151655Z
UID:10000128-1677974400-1678060799@aujoyeuxbazar.com
SUMMARY:Bonne Fête Mamie
DESCRIPTION:Bonne Fête Mamie \nLa fête des grands mères 2023 aura lieu ce dimanche 5 mars 2023. \nC’est le moment pour les petits-enfants d’exprimer leur tendresse et affection auprès de leurs mamies en leur souhaitant « Bonne fête ». \nUn petit cadeau fait maison\, un câlin ou juste un coup de fil… si votre enfant a la chance d’avoir une ou plusieurs grand mère\, pensez à cette petite attention qui fait toujours plaisir !
URL:https://aujoyeuxbazar.com/atelier/2124-1-2/
LOCATION:aucun\, Lyon\, France\, France
CATEGORIES:Catégorie Libre
ATTACH;FMTTYPE=image/jpeg:https://aujoyeuxbazar.com/wp-content/uploads/2022/10/bonne-fete-mamie-3.jpg
ORGANIZER;CN="Festival de l'Apprendre 2024":MAILTO:aujoyeuxbazardeclaire@gmail.com
END:VEVENT
BEGIN:VEVENT
DTSTART;TZID=Europe/Paris:20230318T143000
DTEND;TZID=Europe/Paris:20230318T173000
DTSTAMP:20260423T173858
CREATED:20220320T142655Z
LAST-MODIFIED:20230309T153142Z
UID:10000100-1679149800-1679160600@aujoyeuxbazar.com
SUMMARY:Anniversaire de Juliette
DESCRIPTION:Bon Anniversaire Juliette \nJuliette fêtera ses 5 ans sur le thème des Licornes et des Arcs en Ciel
URL:https://aujoyeuxbazar.com/atelier/2124-1-2-3-4/
LOCATION:A Domicile
CATEGORIES:Festival, Evènement, Anniversaire
ATTACH;FMTTYPE=image/jpeg:https://aujoyeuxbazar.com/wp-content/uploads/2022/03/pineapple-supply-co-qWlkCwBnwOE-unsplash-scaled.jpg
ORGANIZER;CN="Festival de l'Apprendre 2024":MAILTO:aujoyeuxbazardeclaire@gmail.com
END:VEVENT
BEGIN:VEVENT
DTSTART;VALUE=DATE:20230320
DTEND;VALUE=DATE:20230321
DTSTAMP:20260423T173858
CREATED:20220320T142655Z
LAST-MODIFIED:20230309T152443Z
UID:10000099-1679270400-1679356799@aujoyeuxbazar.com
SUMMARY:Vive le Printemps !
DESCRIPTION:Vive le Printemps \nVive le retour du Printemps\, du 20/03/2023 au 21/06/2023 ! \n 
URL:https://aujoyeuxbazar.com/atelier/2124-1-2-3/
LOCATION:aucun\, Lyon\, France\, France
CATEGORIES:Catégorie Libre
ATTACH;FMTTYPE=image/jpeg:https://aujoyeuxbazar.com/wp-content/uploads/2022/03/flower-ge361f62be_1920.jpg
ORGANIZER;CN="Festival de l'Apprendre 2024":MAILTO:aujoyeuxbazardeclaire@gmail.com
END:VEVENT
BEGIN:VEVENT
DTSTART;TZID=Europe/Paris:20230326T143000
DTEND;TZID=Europe/Paris:20230326T173000
DTSTAMP:20260423T173858
CREATED:20220320T142655Z
LAST-MODIFIED:20230319T180214Z
UID:10000103-1679841000-1679851800@aujoyeuxbazar.com
SUMMARY:Anniversaire de Soline
DESCRIPTION:Bon Anniversaire Anaé \nAnaé fêtera ses 5 ans sur le thème des Princesses et des Chevaliers
URL:https://aujoyeuxbazar.com/atelier/2124-1-2-3-4-5-6-7/
LOCATION:A Domicile
CATEGORIES:Festival, Evènement, Anniversaire
ATTACH;FMTTYPE=image/jpeg:https://aujoyeuxbazar.com/wp-content/uploads/2022/03/pineapple-supply-co-qWlkCwBnwOE-unsplash-scaled.jpg
ORGANIZER;CN="Festival de l'Apprendre 2024":MAILTO:aujoyeuxbazardeclaire@gmail.com
END:VEVENT
BEGIN:VEVENT
DTSTART;TZID=Europe/Paris:20230329T143000
DTEND;TZID=Europe/Paris:20230329T173000
DTSTAMP:20260423T173858
CREATED:20220320T142655Z
LAST-MODIFIED:20230319T180416Z
UID:10000104-1680100200-1680111000@aujoyeuxbazar.com
SUMMARY:Anniversaire de Livia
DESCRIPTION:Bon Anniversaire Anaé \nAnaé fêtera ses 5 ans sur le thème des Princesses et des Chevaliers
URL:https://aujoyeuxbazar.com/atelier/2124-1-2-3-4-5-6-8/
LOCATION:A Domicile
CATEGORIES:Festival, Evènement, Anniversaire
ATTACH;FMTTYPE=image/jpeg:https://aujoyeuxbazar.com/wp-content/uploads/2022/03/pineapple-supply-co-qWlkCwBnwOE-unsplash-scaled.jpg
ORGANIZER;CN="Festival de l'Apprendre 2024":MAILTO:aujoyeuxbazardeclaire@gmail.com
END:VEVENT
END:VCALENDAR