BEGIN:VCALENDAR
VERSION:2.0
PRODID:-//Au Joyeux Bazar - ECPv6.15.20//NONSGML v1.0//EN
CALSCALE:GREGORIAN
METHOD:PUBLISH
X-ORIGINAL-URL:https://aujoyeuxbazar.com
X-WR-CALDESC:Évènements pour Au Joyeux Bazar
REFRESH-INTERVAL;VALUE=DURATION:PT1H
X-Robots-Tag:noindex
X-PUBLISHED-TTL:PT1H
BEGIN:VTIMEZONE
TZID:Europe/Paris
BEGIN:DAYLIGHT
TZOFFSETFROM:+0100
TZOFFSETTO:+0200
TZNAME:CEST
DTSTART:20220327T010000
END:DAYLIGHT
BEGIN:STANDARD
TZOFFSETFROM:+0200
TZOFFSETTO:+0100
TZNAME:CET
DTSTART:20221030T010000
END:STANDARD
BEGIN:DAYLIGHT
TZOFFSETFROM:+0100
TZOFFSETTO:+0200
TZNAME:CEST
DTSTART:20230326T010000
END:DAYLIGHT
BEGIN:STANDARD
TZOFFSETFROM:+0200
TZOFFSETTO:+0100
TZNAME:CET
DTSTART:20231029T010000
END:STANDARD
BEGIN:DAYLIGHT
TZOFFSETFROM:+0100
TZOFFSETTO:+0200
TZNAME:CEST
DTSTART:20240331T010000
END:DAYLIGHT
BEGIN:STANDARD
TZOFFSETFROM:+0200
TZOFFSETTO:+0100
TZNAME:CET
DTSTART:20241027T010000
END:STANDARD
END:VTIMEZONE
BEGIN:VEVENT
DTSTART;VALUE=DATE:20230202
DTEND;VALUE=DATE:20230203
DTSTAMP:20260423T191031
CREATED:20221004T132655Z
LAST-MODIFIED:20230130T095806Z
UID:10000127-1675296000-1675382399@aujoyeuxbazar.com
SUMMARY:La Chandeleur
DESCRIPTION:La légende de la Chandeleur\nLa Chandeleur\, autrefois « Chandeleuse« \, se fête le 2 février\, soit 40 jours après Noël. Son nom vient du mot « chandelle« . \nL’histoire de la Chandeleur : \nA l’époque des Romains\, il s’agissait d’une fête en l’honneur du dieu Pan. Toute la nuit\, les croyants parcouraient les rues de Rome en agitant des flambeaux. \nOn organise alors des processions aux chandelles le jour de la Chandeleur : chaque croyant doit récupérer un cierge à l’église et le ramener chez lui en faisant bien attention à le garder allumé ! \nEntre temps une autre tradition a vue le jour : celle des crêpes ! \nCette tradition se rapporte à un mythe lointain selon lequel si on ne faisait pas de crêpes le jour de la Chandeleur\, le blé serait carié (malade) pour l’année. \nPour en savoir plus => rendez-vous sur le site : momes.parents.fr
URL:https://aujoyeuxbazar.com/atelier/2124-1/
LOCATION:aucun\, Lyon\, France\, France
CATEGORIES:Catégorie Libre
ATTACH;FMTTYPE=image/jpeg:https://aujoyeuxbazar.com/wp-content/uploads/2022/10/happy-candlemass-day-g80a1c8a7d_1920.jpg
ORGANIZER;CN="Festival de l'Apprendre 2024":MAILTO:aujoyeuxbazardeclaire@gmail.com
END:VEVENT
END:VCALENDAR