BEGIN:VCALENDAR
VERSION:2.0
PRODID:-//Au Joyeux Bazar - ECPv6.15.20//NONSGML v1.0//EN
CALSCALE:GREGORIAN
METHOD:PUBLISH
X-WR-CALNAME:Au Joyeux Bazar
X-ORIGINAL-URL:https://aujoyeuxbazar.com
X-WR-CALDESC:Évènements pour Au Joyeux Bazar
REFRESH-INTERVAL;VALUE=DURATION:PT1H
X-Robots-Tag:noindex
X-PUBLISHED-TTL:PT1H
BEGIN:VTIMEZONE
TZID:Europe/Paris
BEGIN:DAYLIGHT
TZOFFSETFROM:+0100
TZOFFSETTO:+0200
TZNAME:CEST
DTSTART:20210328T010000
END:DAYLIGHT
BEGIN:STANDARD
TZOFFSETFROM:+0200
TZOFFSETTO:+0100
TZNAME:CET
DTSTART:20211031T010000
END:STANDARD
BEGIN:DAYLIGHT
TZOFFSETFROM:+0100
TZOFFSETTO:+0200
TZNAME:CEST
DTSTART:20220327T010000
END:DAYLIGHT
BEGIN:STANDARD
TZOFFSETFROM:+0200
TZOFFSETTO:+0100
TZNAME:CET
DTSTART:20221030T010000
END:STANDARD
BEGIN:DAYLIGHT
TZOFFSETFROM:+0100
TZOFFSETTO:+0200
TZNAME:CEST
DTSTART:20230326T010000
END:DAYLIGHT
BEGIN:STANDARD
TZOFFSETFROM:+0200
TZOFFSETTO:+0100
TZNAME:CET
DTSTART:20231029T010000
END:STANDARD
END:VTIMEZONE
BEGIN:VEVENT
DTSTART;VALUE=DATE:20221120
DTEND;VALUE=DATE:20221121
DTSTAMP:20260423T233341
CREATED:20221004T100652Z
LAST-MODIFIED:20221004T131922Z
UID:10000125-1668902400-1668988799@aujoyeuxbazar.com
SUMMARY:Journée Mondiale de l'Enfance
DESCRIPTION:La Journée mondiale de l’enfance est la journée d’action internationale de l’UNICEF organisée pour les enfants\, par les enfants. \nDes changements climatiques à l’éducation en passant par la santé mentale\, la lutte contre le racisme et la discrimination\, les enfants et les jeunes s’expriment sur des questions fondamentales pour leur génération et appellent les adultes à bâtir un avenir meilleur. \nLe 20 novembre\, les enfants se mobiliseront pour un monde plus égalitaire et plus inclusif. Et vous\, qu’allez-vous faire ?
URL:https://aujoyeuxbazar.com/atelier/anniversaire-aelya-3-4/
LOCATION:aucun\, Lyon\, France\, France
CATEGORIES:Catégorie Libre
ATTACH;FMTTYPE=image/jpeg:https://aujoyeuxbazar.com/wp-content/uploads/2022/11/world-childrens-day-g3a32eb873_1920.jpg
ORGANIZER;CN="Festival de l'Apprendre 2024":MAILTO:aujoyeuxbazardeclaire@gmail.com
END:VEVENT
END:VCALENDAR