BEGIN:VCALENDAR
VERSION:2.0
PRODID:-//Au Joyeux Bazar - ECPv6.15.20//NONSGML v1.0//EN
CALSCALE:GREGORIAN
METHOD:PUBLISH
X-WR-CALNAME:Au Joyeux Bazar
X-ORIGINAL-URL:https://aujoyeuxbazar.com
X-WR-CALDESC:Évènements pour Au Joyeux Bazar
REFRESH-INTERVAL;VALUE=DURATION:PT1H
X-Robots-Tag:noindex
X-PUBLISHED-TTL:PT1H
BEGIN:VTIMEZONE
TZID:Europe/Paris
BEGIN:DAYLIGHT
TZOFFSETFROM:+0100
TZOFFSETTO:+0200
TZNAME:CEST
DTSTART:20210328T010000
END:DAYLIGHT
BEGIN:STANDARD
TZOFFSETFROM:+0200
TZOFFSETTO:+0100
TZNAME:CET
DTSTART:20211031T010000
END:STANDARD
BEGIN:DAYLIGHT
TZOFFSETFROM:+0100
TZOFFSETTO:+0200
TZNAME:CEST
DTSTART:20220327T010000
END:DAYLIGHT
BEGIN:STANDARD
TZOFFSETFROM:+0200
TZOFFSETTO:+0100
TZNAME:CET
DTSTART:20221030T010000
END:STANDARD
BEGIN:DAYLIGHT
TZOFFSETFROM:+0100
TZOFFSETTO:+0200
TZNAME:CEST
DTSTART:20230326T010000
END:DAYLIGHT
BEGIN:STANDARD
TZOFFSETFROM:+0200
TZOFFSETTO:+0100
TZNAME:CET
DTSTART:20231029T010000
END:STANDARD
END:VTIMEZONE
BEGIN:VEVENT
DTSTART;VALUE=DATE:20221005
DTEND;VALUE=DATE:20221006
DTSTAMP:20260424T004958
CREATED:20221004T100652Z
LAST-MODIFIED:20221004T133320Z
UID:10000123-1664928000-1665014399@aujoyeuxbazar.com
SUMMARY:Au Joyeux Bazar de Claire a 3 ans
DESCRIPTION:Au Joyeux Bazar de Claire a 3 ans : Joyeux Anniversaire ! \nEt c’est cette date que j’ai choisi pour « enfin » lancer officiellement le Site Web : Aujoyeuxbazar.com ! \nJ’espère qu’il vous plaira  !
URL:https://aujoyeuxbazar.com/atelier/anniversaire-aelya-3/
LOCATION:aucun\, Lyon\, France\, France
CATEGORIES:Catégorie Libre
ATTACH;FMTTYPE=image/png:https://aujoyeuxbazar.com/wp-content/uploads/2022/10/teasing-site-web.png
ORGANIZER;CN="Festival de l'Apprendre 2024":MAILTO:aujoyeuxbazardeclaire@gmail.com
END:VEVENT
BEGIN:VEVENT
DTSTART;VALUE=DATE:20221031
DTEND;VALUE=DATE:20221101
DTSTAMP:20260424T004958
CREATED:20221004T100652Z
LAST-MODIFIED:20221004T131603Z
UID:10000124-1667174400-1667260799@aujoyeuxbazar.com
SUMMARY:Halloween
DESCRIPTION:L’origine d’Halloween : une fête celte\, la nuit de Samhain \nHalloween est au départ une fête celtique d’origine irlandaise : Le Nouvel An Celtique ! \nIl y a environ 3000 ans\, le calendrier Celte ne se terminait pas le 31 décembre\, mais le 31 octobre. Et cette dernière nuit de l’année était la nuit du dieu de la mort (Samain ou Samhain). \nEn octobre\, les nuits se rallongent et la légende raconte que les fantômes en profitaient pour rendre visite aux vivants. Alors pour éviter que les fantômes ne viennent les hanter\, les celtes avaient quelques rituels dont celui de s’habiller avec des costumes terrifiants pour faire peur aux fantômes et de se réunir pour faire la fête le soir du 31 octobre. Ce sont les immigrés irlandais qui ont apporté avec eux la tradition d’Halloween aux Etats-Unis ! \nD’où vient le mot « Halloween » et que veut dire « Halloween » ? \nAvec l’arrivée du christianisme\, les catholiques décidèrent à partir du IXème siècle de fêter la Toussaint (« tous les saints »)\, le 1er novembre. Et si on regarde de plus près le mot anglais Halloween\, c’est une sorte de raccourci de l’expression « All Hallows Eve »\, qui signifie « le soir de tous les saints »\, c’est-à-dire la veille de la Toussaint\, le 31 octobre ! \nRDV le 31/10/2023 pour les ateliers créatifs de Au Joyeux Bazar de Claire sur le thème de Halloween !
URL:https://aujoyeuxbazar.com/atelier/anniversaire-aelya-3-4-5/
LOCATION:aucun\, Lyon\, France\, France
CATEGORIES:Catégorie Libre
ATTACH;FMTTYPE=image/png:https://aujoyeuxbazar.com/wp-content/uploads/2022/10/background-1298031_1280-1.png
ORGANIZER;CN="Festival de l'Apprendre 2024":MAILTO:aujoyeuxbazardeclaire@gmail.com
END:VEVENT
END:VCALENDAR