BEGIN:VCALENDAR
VERSION:2.0
PRODID:-//Au Joyeux Bazar - ECPv6.15.20//NONSGML v1.0//EN
CALSCALE:GREGORIAN
METHOD:PUBLISH
X-WR-CALNAME:Au Joyeux Bazar
X-ORIGINAL-URL:https://aujoyeuxbazar.com
X-WR-CALDESC:Évènements pour Au Joyeux Bazar
REFRESH-INTERVAL;VALUE=DURATION:PT1H
X-Robots-Tag:noindex
X-PUBLISHED-TTL:PT1H
BEGIN:VTIMEZONE
TZID:Europe/Paris
BEGIN:DAYLIGHT
TZOFFSETFROM:+0100
TZOFFSETTO:+0200
TZNAME:CEST
DTSTART:20220327T010000
END:DAYLIGHT
BEGIN:STANDARD
TZOFFSETFROM:+0200
TZOFFSETTO:+0100
TZNAME:CET
DTSTART:20221030T010000
END:STANDARD
BEGIN:DAYLIGHT
TZOFFSETFROM:+0100
TZOFFSETTO:+0200
TZNAME:CEST
DTSTART:20230326T010000
END:DAYLIGHT
BEGIN:STANDARD
TZOFFSETFROM:+0200
TZOFFSETTO:+0100
TZNAME:CET
DTSTART:20231029T010000
END:STANDARD
BEGIN:DAYLIGHT
TZOFFSETFROM:+0100
TZOFFSETTO:+0200
TZNAME:CEST
DTSTART:20240331T010000
END:DAYLIGHT
BEGIN:STANDARD
TZOFFSETFROM:+0200
TZOFFSETTO:+0100
TZNAME:CET
DTSTART:20241027T010000
END:STANDARD
END:VTIMEZONE
BEGIN:VEVENT
DTSTART;TZID=Europe/Paris:20230702T140000
DTEND;TZID=Europe/Paris:20230702T170000
DTSTAMP:20260423T131919
CREATED:20230609T093152Z
LAST-MODIFIED:20230609T140956Z
UID:10000146-1688306400-1688317200@aujoyeuxbazar.com
SUMMARY:" Aujourd'hui c'est Famille #4 " avec atelier Poupées Tracas
DESCRIPTION:Le dimanche est souvent un jour consacré à la Famille\, et c’est idem à La Commune (#lyon7) ! ‎ Et le 2 Juillet 2023\, ils accueillent l’association « Famille Culture Ethique » (@famillecultureethique) et ses partenaires (dont Au Joyeux Bazar de Claire pour l’événement « Aujourd’hui\, C’est Famille » : L’événement culturel et écologique pensé par et pour les familles\, et ouvert à tous  Au programme de l’après-midi sous le thème de « Contes et musiques du monde » : – 14h : ATELIERS PARENT/ENFANT : 3 ateliers ludiques et écologiques.En simultané. Capacité d’accueil: 25 enfants. Réservation conseillée.=>Atelier Poupées Tracas (tradition du Guatemala) + Lecture de conte par AU JOYEUX BAZAR DE CLAIRE :=> Atelier Fabrik Zik – par FAMILLE CULTURE ETHIQUE x LE CAFE ENCHANTE=> Atelier performance Lice Drawing (dessin en direct) – par CAROLINE GAUJOUR – 15h : ANIMATION CULTURELLE.=> Danse / Capacité d’accueil: 80 personnes assises. Réservation conseillée.=> Spectacle de Flamenco « EL AIRE » – par la CIE JULIANNA YMIRA – 16h : QUIZZ & LOTERIE ETHIQUE=> Introduction : Diffusion du court métrage animé « Une si petite planète* de Benjamin Gibeaux=>Quizz ludique sur l’éco-sensibilité des familles=> Loterie Hâte de vous y retrouver  ! Inscription : 2€ d’adhésion + 5€ / ateliersLien d’inscription accès événement et ateliers :Famille-culture-et-ethique Pour cet événement à La Commune\, tout est prévu pour les familles :> Coin bébé/ Espace au sol de lecture aménagé avec coussins ; chaises hautes à disposition et restauration sur place à La Commune  Pour y accéder :3 Rue Pré Gaudry\, Lyon 69007—  Métro Jean Jaurès—  Métro Jean Macé—  Tram T2 Jean Macé—  Tram T2 Centre Berthelot – Science Po Lyon—  Bus 34 et 60 arrêt Pré Gaudry – Yves Farge—  Bus C7 arrêt Leclerc – Général Frère—  Parking vélo à disposition devant La Commune.———————————————Site Web :www.lacommune.co
URL:https://aujoyeuxbazar.com/atelier/ateliers-kids-corner-sur-la-lyon-street-food-festival-3/
LOCATION:La Commune (Lyon 7)\, 3 Rue Pré Gaudry\, Lyon\, 69007
CATEGORIES:Catégorie Libre,Festival, Evènement, Anniversaire
ATTACH;FMTTYPE=image/jpeg:https://aujoyeuxbazar.com/wp-content/uploads/2022/07/Auj-Cest-Famille-02-07-23.jpg
END:VEVENT
END:VCALENDAR