BEGIN:VCALENDAR
VERSION:2.0
PRODID:-//Au Joyeux Bazar - ECPv6.15.20//NONSGML v1.0//EN
CALSCALE:GREGORIAN
METHOD:PUBLISH
X-ORIGINAL-URL:https://aujoyeuxbazar.com
X-WR-CALDESC:Évènements pour Au Joyeux Bazar
REFRESH-INTERVAL;VALUE=DURATION:PT1H
X-Robots-Tag:noindex
X-PUBLISHED-TTL:PT1H
BEGIN:VTIMEZONE
TZID:Europe/Paris
BEGIN:DAYLIGHT
TZOFFSETFROM:+0100
TZOFFSETTO:+0200
TZNAME:CEST
DTSTART:20210328T010000
END:DAYLIGHT
BEGIN:STANDARD
TZOFFSETFROM:+0200
TZOFFSETTO:+0100
TZNAME:CET
DTSTART:20211031T010000
END:STANDARD
BEGIN:DAYLIGHT
TZOFFSETFROM:+0100
TZOFFSETTO:+0200
TZNAME:CEST
DTSTART:20220327T010000
END:DAYLIGHT
BEGIN:STANDARD
TZOFFSETFROM:+0200
TZOFFSETTO:+0100
TZNAME:CET
DTSTART:20221030T010000
END:STANDARD
BEGIN:DAYLIGHT
TZOFFSETFROM:+0100
TZOFFSETTO:+0200
TZNAME:CEST
DTSTART:20230326T010000
END:DAYLIGHT
BEGIN:STANDARD
TZOFFSETFROM:+0200
TZOFFSETTO:+0100
TZNAME:CET
DTSTART:20231029T010000
END:STANDARD
END:VTIMEZONE
BEGIN:VEVENT
DTSTART;VALUE=DATE:20221206
DTEND;VALUE=DATE:20221207
DTSTAMP:20260423T233731
CREATED:20221004T132655Z
LAST-MODIFIED:20221004T133104Z
UID:10000126-1670284800-1670371199@aujoyeuxbazar.com
SUMMARY:Saint Nicolas
DESCRIPTION:La légende de Saint Nicolas et du Père fouettard\nUn matin d’automne\, à l’approche de l’hiver\, 3 enfants partirent glaner dans des champs lorrains et se perdirent en chemin. Attirés par la lumière d’une maison\, ils s’approchèrent et frappèrent à la porte. Le propriétaire des lieux n’était autre que le bouche Pierre Lenoir\, appelé aussi Peter Schwartz. Il accepta de les laisser entrer mais les tua puis les coupa en petits morceaux pour les mettre dans un saloir géant et en faire du petit salé. \nSaint Nicolas sur son âne\, frappa à son tour à la porte. L’homme ne pouvant pas rejeter un évêque\, l’invita pour le repas de soir. Saint Nicolas demanda du petit salé. Croyant être pris au piège\, le boucher avoua son crime. Saint Nicolas posa alors 3 doigts sur le saloir et ressuscita les enfants. \nPour punir le boucher\, Saint Nicolas l’enchaîna à son âne. C’est à ce moment de l’histoire qu’il devient le père Fouettard\, un personnage au mauvais caractère et violent qui réprimande les enfants pas sages. L’exact opposé du Saint Nicolas qui dans certains pays est devenu Saint Nikolaus\, puis Santa Klaus pour enfin devenir le père Noël comme nous le connaissons aujourd’hui.
URL:https://aujoyeuxbazar.com/atelier/2124/
LOCATION:aucun\, Lyon\, France\, France
CATEGORIES:Catégorie Libre
ATTACH;FMTTYPE=image/png:https://aujoyeuxbazar.com/wp-content/uploads/2022/10/devil-gca12bd829_1280.png
ORGANIZER;CN="Festival de l'Apprendre 2024":MAILTO:aujoyeuxbazardeclaire@gmail.com
END:VEVENT
END:VCALENDAR